{"text_format":"1","workbook":"xlsx","n_sheets":7,"sheets":["Hinweise","Dateneingabe","Auswertungen","Diagramm - Verbrauch","Berechnungen","Tabellen für Grafik","Stammdaten"],"not_rendered":{"charts":2,"images":2,"macros":1,"external_links":0,"defined_names":2,"comments":1,"pivot_tables":4},"unopened":[{"sheet":"Diagramm - Verbrauch","index":3,"reason":"not_a_worksheet"}],"bounds":{"document_bytes":16777216,"sheet_cells":100000,"rows_first":2000,"rows_last":500,"rows_between":2000,"halvings":0,"cell_chars":16384,"cell_head_chars":4096},"cells_cut":0,"cells_raw":0,"read":"whole","date_system":"1900"}

{"sheet":"Hinweise","index":0,"n_rows":1,"n_cols":9,"rows_kept":1,"cut":false,"hidden":false,"merged":[]}
[null,null,null,null,null,null,null,{"$f":"Dateneingabe!E1","v":"Version:"},{"$f":"Dateneingabe!F1","v":150102}]

{"sheet":"Dateneingabe","index":1,"n_rows":10,"n_cols":6,"rows_kept":10,"cut":false,"hidden":false,"merged":[[6,0,6,1],[6,2,6,3],[6,4,6,5],[1,0,1,1],[1,2,1,5],[3,1,3,5],[4,1,4,5]]}
[null,null,null,null,"Version:",150102]
[null,null,"Messung des \nStrom-Verbrauchs"]
[]
["Name:","Familie Mustermann"]
["Adresse:","Musterstraße 1, 0000 Musterhausen"]
[]
["Verbrauch",null,"Kosten",null,"Zählerwechsel"]
["Ablesedatum","Zählerstand ","Grundpreis","Arbeitspreis","Stand alt","Stand neu"]
["(tt.mm.jj)","kWh","€ / Monat","€ / kWh"]
[null,null,null,null,"<- Beginn der Aufzeichnung"]

{"sheet":"Auswertungen","index":2,"n_rows":43,"n_cols":5,"rows_kept":43,"cut":false,"hidden":false,"merged":[[3,2,3,5],[4,2,4,5],[1,2,1,5]]}
[null,null,null,{"$f":"Dateneingabe!$E$1","v":"Version:"},{"$f":"Dateneingabe!$F$1","v":150102}]
[null,null,"Messung des \nStrom Verbrauchs"]
[]
[null,"Name:",{"$f":"Dateneingabe!$B$4","v":"Familie Mustermann"}]
[null,"Adresse:",{"$f":"Dateneingabe!$B$5","v":"Musterstraße 1, 0000 Musterhausen"}]
[]
[]
[]
[null,"Strom Verbrauch pro Monat (kWh)"]
[]
[null,"Summe"]
[]
[]
[]
[]
[]
[]
[]
[]
[]
[]
[]
[]
[]
[null,"Strom Verbrauch pro Tag (kWh)"]
[]
[null,"Durchschnitt"]
[]
[]
[]
[]
[]
[]
[]
[]
[]
[]
[]
[]
[]
[null,"Strom-Kosten pro Monat (€)"]
[]
[null,"Summe"]

{"sheet":"Berechnungen","index":4,"n_rows":106,"n_cols":18,"rows_kept":106,"cut":false,"hidden":true,"merged":[[7,0,7,1],[7,2,7,3],[7,14,7,16]]}
[]
[]
[]
[]
[]
[]
[]
[null,null,null,null,null,null,null,null,null,null,null,null,null,null,"Berechnung des durchschn. Tagesverbrauchs"]
["Ablesedatum","Zählerstand ","Pauschale","Arbeitspreis","Zähler alt","Zähler neu","Jahr","Mnt","Monat","Tag","Anz. Tage","Tage/Monat","Verbrauch","Verbr/Tag 1","Anz Tage","Verbr 1","Verbr/Tag","Kosten"]
[{"$f":"IF(Dateneingabe!A10>0,Dateneingabe!A10,\"\")","v":""},{"$f":"Dateneingabe!B10","v":0},{"$f":"Dateneingabe!C10","v":0},{"$f":"Dateneingabe!D10","v":0}]
[{"$f":"IF(Dateneingabe!A11>0,Dateneingabe!A11,\"\")","v":""},{"$f":"Dateneingabe!B11","v":0},{"$f":"IF(Dateneingabe!C11<>\"\",Dateneingabe!C11,C10)","v":0},{"$f":"IF(Dateneingabe!D11>\"\",Dateneingabe!D11,D10)","v":0},{"$f":"Dateneingabe!E11","v":0},{"$f":"Dateneingabe!F11","v":0},{"$f":"IF(A11<>\"\",YEAR(A11-5),\"\")","v":""},{"$f":"IF(A11<>\"\",(MONTH(A11-5)),\"\")","v":""},{"$f":"VLOOKUP(H11,Stammdaten!A$4:B$15,2,TRUE)","v":{"$error":"#N/A"}},{"$f":"DAY(A11)","v":{"$error":"#VALUE!"}},{"$f":"A11-A10","v":{"$error":"#VALUE!"}},{"$f":"VLOOKUP(H11,Stammdaten!A$4:C$15,3,TRUE)","v":{"$error":"#N/A"}},{"$f":"(B11+E11-B10-F11)","v":0},{"$f":"M11/(A11-A10)","v":{"$error":"#VALUE!"}},{"$f":"SUMIFS($K$11:$K$106,$H$11:$H$106,H11,$G$11:$G$106,G11)","v":{"$error":"#VALUE!"}},{"$f":"SUMIFS($M$11:$M$106,$H$11:$H$106,H11,$G$11:$G$106,G11)","v":0},{"$f":"IF(AND(H11=H12,G12=G11),\"\",(P11/O11))","v":""},{"$f":"IF(M11=\"\",\"\",(C11*K11/L11)+(D11*M11))","v":{"$error":"#VALUE!"}}]
[{"$f":"IF(Dateneingabe!A12>0,Dateneingabe!A12,\"\")","v":""},{"$f":"Dateneingabe!B12","v":0},{"$f":"IF(Dateneingabe!C12<>\"\",Dateneingabe!C12,C11)","v":0},{"$f":"IF(Dateneingabe!D12>\"\",Dateneingabe!D12,D11)","v":0},{"$f":"Dateneingabe!E12","v":0},{"$f":"Dateneingabe!F12","v":0},{"$f":"IF(A12<>\"\",YEAR(A12-5),\"\")","v":""},"",{"$f":"VLOOKUP(H12,Stammdaten!A$4:B$15,2,TRUE)","v":{"$error":"#N/A"}},{"$error":"#VALUE!"},{"$f":"A12-A11","v":{"$error":"#VALUE!"}},{"$f":"VLOOKUP(H12,Stammdaten!A$4:C$15,3,TRUE)","v":{"$error":"#N/A"}},{"$f":"(B12+E12-B11-F12)","v":0},{"$error":"#VALUE!"},{"$f":"SUMIFS($K$11:$K$106,$H$11:$H$106,H12,$G$11:$G$106,G12)","v":{"$error":"#VALUE!"}},{"$f":"SUMIFS($M$11:$M$106,$H$11:$H$106,H12,$G$11:$G$106,G12)","v":0},{"$f":"IF(AND(H12=H13,G13=G12),\"\",(P12/O12))","v":""},{"$f":"IF(M12=\"\",\"\",(C12*K12/L12)+(D12*M12))","v":{"$error":"#VALUE!"}}]
[{"$f":"IF(Dateneingabe!A13>0,Dateneingabe!A13,\"\")","v":""},{"$f":"Dateneingabe!B13","v":0},{"$f":"IF(Dateneingabe!C13<>\"\",Dateneingabe!C13,C12)","v":0},{"$f":"IF(Dateneingabe!D13>\"\",Dateneingabe!D13,D12)","v":0},{"$f":"Dateneingabe!E13","v":0},{"$f":"Dateneingabe!F13","v":0},"","",{"$f":"VLOOKUP(H13,Stammdaten!A$4:B$15,2,TRUE)","v":{"$error":"#N/A"}},{"$error":"#VALUE!"},{"$error":"#VALUE!"},{"$f":"VLOOKUP(H13,Stammdaten!A$4:C$15,3,TRUE)","v":{"$error":"#N/A"}},0,{"$error":"#VALUE!"},{"$error":"#VALUE!"},0,{"$f":"IF(AND(H13=H14,G14=G13),\"\",(P13/O13))","v":""},{"$error":"#VALUE!"}]
[{"$f":"IF(Dateneingabe!A14>0,Dateneingabe!A14,\"\")","v":""},{"$f":"Dateneingabe!B14","v":0},{"$f":"IF(Dateneingabe!C14<>\"\",Dateneingabe!C14,C13)","v":0},{"$f":"IF(Dateneingabe!D14>\"\",Dateneingabe!D14,D13)","v":0},{"$f":"Dateneingabe!E14","v":0},{"$f":"Dateneingabe!F14","v":0},"",{"$f":"IF(A14<>\"\",(MONTH(A14-5)),\"\")","v":""},{"$f":"VLOOKUP(H14,Stammdaten!A$4:B$15,2,TRUE)","v":{"$error":"#N/A"}},{"$error":"#VALUE!"},{"$error":"#VALUE!"},{"$f":"VLOOKUP(H14,Stammdaten!A$4:C$15,3,TRUE)","v":{"$error":"#N/A"}},0,{"$error":"#VALUE!"},{"$error":"#VALUE!"},0,"",{"$error":"#VALUE!"}]
[{"$f":"IF(Dateneingabe!A15>0,Dateneingabe!A15,\"\")","v":""},{"$f":"Dateneingabe!B15","v":0},{"$f":"IF(Dateneingabe!C15<>\"\",Dateneingabe!C15,C14)","v":0},{"$f":"IF(Dateneingabe!D15>\"\",Dateneingabe!D15,D14)","v":0},{"$f":"Dateneingabe!E15","v":0},{"$f":"Dateneingabe!F15","v":0},"",{"$f":"IF(A15<>\"\",(MONTH(A15-5)),\"\")","v":""},{"$f":"VLOOKUP(H15,Stammdaten!A$4:B$15,2,TRUE)","v":{"$error":"#N/A"}},{"$error":"#VALUE!"},{"$error":"#VALUE!"},{"$f":"VLOOKUP(H15,Stammdaten!A$4:C$15,3,TRUE)","v":{"$error":"#N/A"}},0,{"$error":"#VALUE!"},{"$error":"#VALUE!"},0,"",{"$error":"#VALUE!"}]
[{"$f":"IF(Dateneingabe!A16>0,Dateneingabe!A16,\"\")","v":""},{"$f":"Dateneingabe!B16","v":0},{"$f":"IF(Dateneingabe!C16<>\"\",Dateneingabe!C16,C15)","v":0},{"$f":"IF(Dateneingabe!D16>\"\",Dateneingabe!D16,D15)","v":0},{"$f":"Dateneingabe!E16","v":0},{"$f":"Dateneingabe!F16","v":0},"","",{"$f":"VLOOKUP(H16,Stammdaten!A$4:B$15,2,TRUE)","v":{"$error":"#N/A"}},{"$error":"#VALUE!"},{"$error":"#VALUE!"},{"$f":"VLOOKUP(H16,Stammdaten!A$4:C$15,3,TRUE)","v":{"$error":"#N/A"}},0,{"$error":"#VALUE!"},{"$error":"#VALUE!"},0,"",{"$error":"#VALUE!"}]
[{"$f":"IF(Dateneingabe!A17>0,Dateneingabe!A17,\"\")","v":""},{"$f":"Dateneingabe!B17","v":0},{"$f":"IF(Dateneingabe!C17<>\"\",Dateneingabe!C17,C16)","v":0},{"$f":"IF(Dateneingabe!D17>\"\",Dateneingabe!D17,D16)","v":0},{"$f":"Dateneingabe!E17","v":0},{"$f":"Dateneingabe!F17","v":0},"","",{"$f":"VLOOKUP(H17,Stammdaten!A$4:B$15,2,TRUE)","v":{"$error":"#N/A"}},{"$error":"#VALUE!"},{"$error":"#VALUE!"},{"$f":"VLOOKUP(H17,Stammdaten!A$4:C$15,3,TRUE)","v":{"$error":"#N/A"}},0,{"$error":"#VALUE!"},{"$error":"#VALUE!"},0,"",{"$error":"#VALUE!"}]
[{"$f":"IF(Dateneingabe!A18>0,Dateneingabe!A18,\"\")","v":""},{"$f":"Dateneingabe!B18","v":0},{"$f":"IF(Dateneingabe!C18<>\"\",Dateneingabe!C18,C17)","v":0},{"$f":"IF(Dateneingabe!D18>\"\",Dateneingabe!D18,D17)","v":0},{"$f":"Dateneingabe!E18","v":0},{"$f":"Dateneingabe!F18","v":0},"","",{"$f":"VLOOKUP(H18,Stammdaten!A$4:B$15,2,TRUE)","v":{"$error":"#N/A"}},{"$error":"#VALUE!"},{"$error":"#VALUE!"},{"$f":"VLOOKUP(H18,Stammdaten!A$4:C$15,3,TRUE)","v":{"$error":"#N/A"}},0,{"$error":"#VALUE!"},{"$error":"#VALUE!"},0,"",{"$error":"#VALUE!"}]
[{"$f":"IF(Dateneingabe!A19>0,Dateneingabe!A19,\"\")","v":""},{"$f":"Dateneingabe!B19","v":0},{"$f":"IF(Dateneingabe!C19<>\"\",Dateneingabe!C19,C18)","v":0},{"$f":"IF(Dateneingabe!D19>\"\",Dateneingabe!D19,D18)","v":0},{"$f":"Dateneingabe!E19","v":0},{"$f":"Dateneingabe!F19","v":0},"","",{"$f":"VLOOKUP(H19,Stammdaten!A$4:B$15,2,TRUE)","v":{"$error":"#N/A"}},{"$error":"#VALUE!"},{"$error":"#VALUE!"},{"$f":"VLOOKUP(H19,Stammdaten!A$4:C$15,3,TRUE)","v":{"$error":"#N/A"}},0,{"$error":"#VALUE!"},{"$error":"#VALUE!"},0,"",{"$error":"#VALUE!"}]
[{"$f":"IF(Dateneingabe!A20>0,Dateneingabe!A20,\"\")","v":""},{"$f":"Dateneingabe!B20","v":0},{"$f":"IF(Dateneingabe!C20<>\"\",Dateneingabe!C20,C19)","v":0},{"$f":"IF(Dateneingabe!D20>\"\",Dateneingabe!D20,D19)","v":0},{"$f":"Dateneingabe!E20","v":0},{"$f":"Dateneingabe!F20","v":0},"","",{"$f":"VLOOKUP(H20,Stammdaten!A$4:B$15,2,TRUE)","v":{"$error":"#N/A"}},{"$error":"#VALUE!"},{"$error":"#VALUE!"},{"$f":"VLOOKUP(H20,Stammdaten!A$4:C$15,3,TRUE)","v":{"$error":"#N/A"}},0,{"$error":"#VALUE!"},{"$error":"#VALUE!"},0,"",{"$error":"#VALUE!"}]
[{"$f":"IF(Dateneingabe!A21>0,Dateneingabe!A21,\"\")","v":""},{"$f":"Dateneingabe!B21","v":0},{"$f":"IF(Dateneingabe!C21<>\"\",Dateneingabe!C21,C20)","v":0},{"$f":"IF(Dateneingabe!D21>\"\",Dateneingabe!D21,D20)","v":0},{"$f":"Dateneingabe!E21","v":0},{"$f":"Dateneingabe!F21","v":0},"","",{"$f":"VLOOKUP(H21,Stammdaten!A$4:B$15,2,TRUE)","v":{"$error":"#N/A"}},{"$error":"#VALUE!"},{"$error":"#VALUE!"},{"$f":"VLOOKUP(H21,Stammdaten!A$4:C$15,3,TRUE)","v":{"$error":"#N/A"}},0,{"$f":"M21/(A21-A20)","v":{"$error":"#VALUE!"}},{"$error":"#VALUE!"},0,"",{"$error":"#VALUE!"}]
[{"$f":"IF(Dateneingabe!A22>0,Dateneingabe!A22,\"\")","v":""},{"$f":"Dateneingabe!B22","v":0},{"$f":"IF(Dateneingabe!C22<>\"\",Dateneingabe!C22,C21)","v":0},{"$f":"IF(Dateneingabe!D22>\"\",Dateneingabe!D22,D21)","v":0},{"$f":"Dateneingabe!E22","v":0},{"$f":"Dateneingabe!F22","v":0},"","",{"$f":"VLOOKUP(H22,Stammdaten!A$4:B$15,2,TRUE)","v":{"$error":"#N/A"}},{"$error":"#VALUE!"},{"$error":"#VALUE!"},{"$f":"VLOOKUP(H22,Stammdaten!A$4:C$15,3,TRUE)","v":{"$error":"#N/A"}},0,{"$error":"#VALUE!"},{"$error":"#VALUE!"},0,"",{"$error":"#VALUE!"}]
[{"$f":"IF(Dateneingabe!A23>0,Dateneingabe!A23,\"\")","v":""},{"$f":"Dateneingabe!B23","v":0},{"$f":"IF(Dateneingabe!C23<>\"\",Dateneingabe!C23,C22)","v":0},{"$f":"IF(Dateneingabe!D23>\"\",Dateneingabe!D23,D22)","v":0},{"$f":"Dateneingabe!E23","v":0},{"$f":"Dateneingabe!F23","v":0},"","",{"$f":"VLOOKUP(H23,Stammdaten!A$4:B$15,2,TRUE)","v":{"$error":"#N/A"}},{"$error":"#VALUE!"},{"$error":"#VALUE!"},{"$f":"VLOOKUP(H23,Stammdaten!A$4:C$15,3,TRUE)","v":{"$error":"#N/A"}},0,{"$error":"#VALUE!"},{"$error":"#VALUE!"},0,"",{"$error":"#VALUE!"}]
[{"$f":"IF(Dateneingabe!A24>0,Dateneingabe!A24,\"\")","v":""},{"$f":"Dateneingabe!B24","v":0},{"$f":"IF(Dateneingabe!C24<>\"\",Dateneingabe!C24,C23)","v":0},{"$f":"IF(Dateneingabe!D24>\"\",Dateneingabe!D24,D23)","v":0},{"$f":"Dateneingabe!E24","v":0},{"$f":"Dateneingabe!F24","v":0},"","",{"$f":"VLOOKUP(H24,Stammdaten!A$4:B$15,2,TRUE)","v":{"$error":"#N/A"}},{"$error":"#VALUE!"},{"$error":"#VALUE!"},{"$f":"VLOOKUP(H24,Stammdaten!A$4:C$15,3,TRUE)","v":{"$error":"#N/A"}},0,{"$error":"#VALUE!"},{"$error":"#VALUE!"},0,"",{"$error":"#VALUE!"}]
[{"$f":"IF(Dateneingabe!A25>0,Dateneingabe!A25,\"\")","v":""},{"$f":"Dateneingabe!B25","v":0},{"$f":"IF(Dateneingabe!C25<>\"\",Dateneingabe!C25,C24)","v":0},{"$f":"IF(Dateneingabe!D25>\"\",Dateneingabe!D25,D24)","v":0},{"$f":"Dateneingabe!E25","v":0},{"$f":"Dateneingabe!F25","v":0},"","",{"$f":"VLOOKUP(H25,Stammdaten!A$4:B$15,2,TRUE)","v":{"$error":"#N/A"}},{"$f":"DAY(A25)","v":{"$error":"#VALUE!"}},{"$error":"#VALUE!"},{"$f":"VLOOKUP(H25,Stammdaten!A$4:C$15,3,TRUE)","v":{"$error":"#N/A"}},0,{"$error":"#VALUE!"},{"$error":"#VALUE!"},0,"",{"$error":"#VALUE!"}]
[{"$f":"IF(Dateneingabe!A26>0,Dateneingabe!A26,\"\")","v":""},{"$f":"Dateneingabe!B26","v":0},{"$f":"IF(Dateneingabe!C26<>\"\",Dateneingabe!C26,C25)","v":0},{"$f":"IF(Dateneingabe!D26>\"\",Dateneingabe!D26,D25)","v":0},{"$f":"Dateneingabe!E26","v":0},{"$f":"Dateneingabe!F26","v":0},"","",{"$f":"VLOOKUP(H26,Stammdaten!A$4:B$15,2,TRUE)","v":{"$error":"#N/A"}},{"$f":"DAY(A26)","v":{"$error":"#VALUE!"}},{"$error":"#VALUE!"},{"$f":"VLOOKUP(H26,Stammdaten!A$4:C$15,3,TRUE)","v":{"$error":"#N/A"}},0,{"$error":"#VALUE!"},{"$error":"#VALUE!"},0,"",{"$error":"#VALUE!"}]
[{"$f":"IF(Dateneingabe!A27>0,Dateneingabe!A27,\"\")","v":""},{"$f":"Dateneingabe!B27","v":0},{"$f":"IF(Dateneingabe!C27<>\"\",Dateneingabe!C27,C26)","v":0},{"$f":"IF(Dateneingabe!D27>\"\",Dateneingabe!D27,D26)","v":0},{"$f":"Dateneingabe!E27","v":0},{"$f":"Dateneingabe!F27","v":0},"","",{"$f":"VLOOKUP(H27,Stammdaten!A$4:B$15,2,TRUE)","v":{"$error":"#N/A"}},{"$error":"#VALUE!"},{"$error":"#VALUE!"},{"$f":"VLOOKUP(H27,Stammdaten!A$4:C$15,3,TRUE)","v":{"$error":"#N/A"}},0,{"$error":"#VALUE!"},{"$error":"#VALUE!"},0,"",{"$error":"#VALUE!"}]
[{"$f":"IF(Dateneingabe!A28>0,Dateneingabe!A28,\"\")","v":""},{"$f":"Dateneingabe!B28","v":0},{"$f":"IF(Dateneingabe!C28<>\"\",Dateneingabe!C28,C27)","v":0},{"$f":"IF(Dateneingabe!D28>\"\",Dateneingabe!D28,D27)","v":0},{"$f":"Dateneingabe!E28","v":0},{"$f":"Dateneingabe!F28","v":0},"","",{"$f":"VLOOKUP(H28,Stammdaten!A$4:B$15,2,TRUE)","v":{"$error":"#N/A"}},{"$error":"#VALUE!"},{"$error":"#VALUE!"},{"$f":"VLOOKUP(H28,Stammdaten!A$4:C$15,3,TRUE)","v":{"$error":"#N/A"}},0,{"$error":"#VALUE!"},{"$error":"#VALUE!"},0,"",{"$error":"#VALUE!"}]
[{"$f":"IF(Dateneingabe!A29>0,Dateneingabe!A29,\"\")","v":""},{"$f":"Dateneingabe!B29","v":0},{"$f":"IF(Dateneingabe!C29<>\"\",Dateneingabe!C29,C28)","v":0},{"$f":"IF(Dateneingabe!D29>\"\",Dateneingabe!D29,D28)","v":0},{"$f":"Dateneingabe!E29","v":0},{"$f":"Dateneingabe!F29","v":0},"","",{"$f":"VLOOKUP(H29,Stammdaten!A$4:B$15,2,TRUE)","v":{"$error":"#N/A"}},{"$error":"#VALUE!"},{"$error":"#VALUE!"},{"$f":"VLOOKUP(H29,Stammdaten!A$4:C$15,3,TRUE)","v":{"$error":"#N/A"}},0,{"$error":"#VALUE!"},{"$error":"#VALUE!"},0,"",{"$error":"#VALUE!"}]
[{"$f":"IF(Dateneingabe!A30>0,Dateneingabe!A30,\"\")","v":""},{"$f":"Dateneingabe!B30","v":0},{"$f":"IF(Dateneingabe!C30<>\"\",Dateneingabe!C30,C29)","v":0},{"$f":"IF(Dateneingabe!D30>\"\",Dateneingabe!D30,D29)","v":0},{"$f":"Dateneingabe!E30","v":0},{"$f":"Dateneingabe!F30","v":0},"","",{"$f":"VLOOKUP(H30,Stammdaten!A$4:B$15,2,TRUE)","v":{"$error":"#N/A"}},{"$error":"#VALUE!"},{"$error":"#VALUE!"},{"$f":"VLOOKUP(H30,Stammdaten!A$4:C$15,3,TRUE)","v":{"$error":"#N/A"}},0,{"$error":"#VALUE!"},{"$error":"#VALUE!"},0,"",{"$error":"#VALUE!"}]
[{"$f":"IF(Dateneingabe!A31>0,Dateneingabe!A31,\"\")","v":""},{"$f":"Dateneingabe!B31","v":0},{"$f":"IF(Dateneingabe!C31<>\"\",Dateneingabe!C31,C30)","v":0},{"$f":"IF(Dateneingabe!D31>\"\",Dateneingabe!D31,D30)","v":0},{"$f":"Dateneingabe!E31","v":0},{"$f":"Dateneingabe!F31","v":0},"","",{"$f":"VLOOKUP(H31,Stammdaten!A$4:B$15,2,TRUE)","v":{"$error":"#N/A"}},{"$error":"#VALUE!"},{"$error":"#VALUE!"},{"$f":"VLOOKUP(H31,Stammdaten!A$4:C$15,3,TRUE)","v":{"$error":"#N/A"}},0,{"$error":"#VALUE!"},{"$error":"#VALUE!"},0,"",{"$error":"#VALUE!"}]
[{"$f":"IF(Dateneingabe!A32>0,Dateneingabe!A32,\"\")","v":""},{"$f":"Dateneingabe!B32","v":0},{"$f":"IF(Dateneingabe!C32<>\"\",Dateneingabe!C32,C31)","v":0},{"$f":"IF(Dateneingabe!D32>\"\",Dateneingabe!D32,D31)","v":0},{"$f":"Dateneingabe!E32","v":0},{"$f":"Dateneingabe!F32","v":0},"","",{"$f":"VLOOKUP(H32,Stammdaten!A$4:B$15,2,TRUE)","v":{"$error":"#N/A"}},{"$error":"#VALUE!"},{"$error":"#VALUE!"},{"$f":"VLOOKUP(H32,Stammdaten!A$4:C$15,3,TRUE)","v":{"$error":"#N/A"}},0,{"$error":"#VALUE!"},{"$error":"#VALUE!"},0,"",{"$error":"#VALUE!"}]
[{"$f":"IF(Dateneingabe!A33>0,Dateneingabe!A33,\"\")","v":""},{"$f":"Dateneingabe!B33","v":0},{"$f":"IF(Dateneingabe!C33<>\"\",Dateneingabe!C33,C32)","v":0},{"$f":"IF(Dateneingabe!D33>\"\",Dateneingabe!D33,D32)","v":0},{"$f":"Dateneingabe!E33","v":0},{"$f":"Dateneingabe!F33","v":0},"","",{"$f":"VLOOKUP(H33,Stammdaten!A$4:B$15,2,TRUE)","v":{"$error":"#N/A"}},{"$error":"#VALUE!"},{"$error":"#VALUE!"},{"$f":"VLOOKUP(H33,Stammdaten!A$4:C$15,3,TRUE)","v":{"$error":"#N/A"}},0,{"$error":"#VALUE!"},{"$error":"#VALUE!"},0,"",{"$error":"#VALUE!"}]
[{"$f":"IF(Dateneingabe!A34>0,Dateneingabe!A34,\"\")","v":""},{"$f":"Dateneingabe!B34","v":0},{"$f":"IF(Dateneingabe!C34<>\"\",Dateneingabe!C34,C33)","v":0},{"$f":"IF(Dateneingabe!D34>\"\",Dateneingabe!D34,D33)","v":0},{"$f":"Dateneingabe!E34","v":0},{"$f":"Dateneingabe!F34","v":0},"","",{"$f":"VLOOKUP(H34,Stammdaten!A$4:B$15,2,TRUE)","v":{"$error":"#N/A"}},{"$error":"#VALUE!"},{"$error":"#VALUE!"},{"$f":"VLOOKUP(H34,Stammdaten!A$4:C$15,3,TRUE)","v":{"$error":"#N/A"}},0,{"$error":"#VALUE!"},{"$error":"#VALUE!"},0,"",{"$error":"#VALUE!"}]
[{"$f":"IF(Dateneingabe!A35>0,Dateneingabe!A35,\"\")","v":""},{"$f":"Dateneingabe!B35","v":0},{"$f":"IF(Dateneingabe!C35<>\"\",Dateneingabe!C35,C34)","v":0},{"$f":"IF(Dateneingabe!D35>\"\",Dateneingabe!D35,D34)","v":0},{"$f":"Dateneingabe!E35","v":0},{"$f":"Dateneingabe!F35","v":0},"","",{"$f":"VLOOKUP(H35,Stammdaten!A$4:B$15,2,TRUE)","v":{"$error":"#N/A"}},{"$error":"#VALUE!"},{"$error":"#VALUE!"},{"$f":"VLOOKUP(H35,Stammdaten!A$4:C$15,3,TRUE)","v":{"$error":"#N/A"}},0,{"$error":"#VALUE!"},{"$error":"#VALUE!"},0,"",{"$error":"#VALUE!"}]
[{"$f":"IF(Dateneingabe!A36>0,Dateneingabe!A36,\"\")","v":""},{"$f":"Dateneingabe!B36","v":0},{"$f":"IF(Dateneingabe!C36<>\"\",Dateneingabe!C36,C35)","v":0},{"$f":"IF(Dateneingabe!D36>\"\",Dateneingabe!D36,D35)","v":0},{"$f":"Dateneingabe!E36","v":0},{"$f":"Dateneingabe!F36","v":0},"","",{"$f":"VLOOKUP(H36,Stammdaten!A$4:B$15,2,TRUE)","v":{"$error":"#N/A"}},{"$error":"#VALUE!"},{"$error":"#VALUE!"},{"$f":"VLOOKUP(H36,Stammdaten!A$4:C$15,3,TRUE)","v":{"$error":"#N/A"}},0,{"$error":"#VALUE!"},{"$error":"#VALUE!"},0,"",{"$error":"#VALUE!"}]
[{"$f":"IF(Dateneingabe!A37>0,Dateneingabe!A37,\"\")","v":""},{"$f":"Dateneingabe!B37","v":0},{"$f":"IF(Dateneingabe!C37<>\"\",Dateneingabe!C37,C36)","v":0},{"$f":"IF(Dateneingabe!D37>\"\",Dateneingabe!D37,D36)","v":0},{"$f":"Dateneingabe!E37","v":0},{"$f":"Dateneingabe!F37","v":0},"","",{"$f":"VLOOKUP(H37,Stammdaten!A$4:B$15,2,TRUE)","v":{"$error":"#N/A"}},{"$error":"#VALUE!"},{"$error":"#VALUE!"},{"$f":"VLOOKUP(H37,Stammdaten!A$4:C$15,3,TRUE)","v":{"$error":"#N/A"}},0,{"$error":"#VALUE!"},{"$error":"#VALUE!"},0,"",{"$error":"#VALUE!"}]
[{"$f":"IF(Dateneingabe!A38>0,Dateneingabe!A38,\"\")","v":""},{"$f":"Dateneingabe!B38","v":0},{"$f":"IF(Dateneingabe!C38<>\"\",Dateneingabe!C38,C37)","v":0},{"$f":"IF(Dateneingabe!D38>\"\",Dateneingabe!D38,D37)","v":0},{"$f":"Dateneingabe!E38","v":0},{"$f":"Dateneingabe!F38","v":0},"","",{"$f":"VLOOKUP(H38,Stammdaten!A$4:B$15,2,TRUE)","v":{"$error":"#N/A"}},{"$error":"#VALUE!"},{"$error":"#VALUE!"},{"$f":"VLOOKUP(H38,Stammdaten!A$4:C$15,3,TRUE)","v":{"$error":"#N/A"}},0,{"$error":"#VALUE!"},{"$error":"#VALUE!"},0,"",{"$error":"#VALUE!"}]
[{"$f":"IF(Dateneingabe!A39>0,Dateneingabe!A39,\"\")","v":""},{"$f":"Dateneingabe!B39","v":0},{"$f":"IF(Dateneingabe!C39<>\"\",Dateneingabe!C39,C38)","v":0},{"$f":"IF(Dateneingabe!D39>\"\",Dateneingabe!D39,D38)","v":0},{"$f":"Dateneingabe!E39","v":0},{"$f":"Dateneingabe!F39","v":0},"","",{"$f":"VLOOKUP(H39,Stammdaten!A$4:B$15,2,TRUE)","v":{"$error":"#N/A"}},{"$error":"#VALUE!"},{"$error":"#VALUE!"},{"$f":"VLOOKUP(H39,Stammdaten!A$4:C$15,3,TRUE)","v":{"$error":"#N/A"}},0,{"$error":"#VALUE!"},{"$error":"#VALUE!"},0,"",{"$error":"#VALUE!"}]
[{"$f":"IF(Dateneingabe!A40>0,Dateneingabe!A40,\"\")","v":""},{"$f":"Dateneingabe!B40","v":0},{"$f":"IF(Dateneingabe!C40<>\"\",Dateneingabe!C40,C39)","v":0},{"$f":"IF(Dateneingabe!D40>\"\",Dateneingabe!D40,D39)","v":0},{"$f":"Dateneingabe!E40","v":0},{"$f":"Dateneingabe!F40","v":0},"","",{"$f":"VLOOKUP(H40,Stammdaten!A$4:B$15,2,TRUE)","v":{"$error":"#N/A"}},{"$error":"#VALUE!"},{"$error":"#VALUE!"},{"$f":"VLOOKUP(H40,Stammdaten!A$4:C$15,3,TRUE)","v":{"$error":"#N/A"}},0,{"$error":"#VALUE!"},{"$error":"#VALUE!"},0,"",{"$error":"#VALUE!"}]
[{"$f":"IF(Dateneingabe!A41>0,Dateneingabe!A41,\"\")","v":""},{"$f":"Dateneingabe!B41","v":0},{"$f":"IF(Dateneingabe!C41<>\"\",Dateneingabe!C41,C40)","v":0},{"$f":"IF(Dateneingabe!D41>\"\",Dateneingabe!D41,D40)","v":0},{"$f":"Dateneingabe!E41","v":0},{"$f":"Dateneingabe!F41","v":0},"","",{"$f":"VLOOKUP(H41,Stammdaten!A$4:B$15,2,TRUE)","v":{"$error":"#N/A"}},{"$error":"#VALUE!"},{"$error":"#VALUE!"},{"$f":"VLOOKUP(H41,Stammdaten!A$4:C$15,3,TRUE)","v":{"$error":"#N/A"}},0,{"$error":"#VALUE!"},{"$error":"#VALUE!"},0,"",{"$error":"#VALUE!"}]
[{"$f":"IF(Dateneingabe!A42>0,Dateneingabe!A42,\"\")","v":""},{"$f":"Dateneingabe!B42","v":0},{"$f":"IF(Dateneingabe!C42<>\"\",Dateneingabe!C42,C41)","v":0},{"$f":"IF(Dateneingabe!D42>\"\",Dateneingabe!D42,D41)","v":0},{"$f":"Dateneingabe!E42","v":0},{"$f":"Dateneingabe!F42","v":0},"","",{"$f":"VLOOKUP(H42,Stammdaten!A$4:B$15,2,TRUE)","v":{"$error":"#N/A"}},{"$error":"#VALUE!"},{"$error":"#VALUE!"},{"$f":"VLOOKUP(H42,Stammdaten!A$4:C$15,3,TRUE)","v":{"$error":"#N/A"}},0,{"$error":"#VALUE!"},{"$error":"#VALUE!"},0,"",{"$error":"#VALUE!"}]
[{"$f":"IF(Dateneingabe!A43>0,Dateneingabe!A43,\"\")","v":""},{"$f":"Dateneingabe!B43","v":0},{"$f":"IF(Dateneingabe!C43<>\"\",Dateneingabe!C43,C42)","v":0},{"$f":"IF(Dateneingabe!D43>\"\",Dateneingabe!D43,D42)","v":0},{"$f":"Dateneingabe!E43","v":0},{"$f":"Dateneingabe!F43","v":0},"","",{"$f":"VLOOKUP(H43,Stammdaten!A$4:B$15,2,TRUE)","v":{"$error":"#N/A"}},{"$error":"#VALUE!"},{"$error":"#VALUE!"},{"$f":"VLOOKUP(H43,Stammdaten!A$4:C$15,3,TRUE)","v":{"$error":"#N/A"}},0,{"$error":"#VALUE!"},{"$error":"#VALUE!"},0,"",{"$error":"#VALUE!"}]
[{"$f":"IF(Dateneingabe!A44>0,Dateneingabe!A44,\"\")","v":""},{"$f":"Dateneingabe!B44","v":0},{"$f":"IF(Dateneingabe!C44<>\"\",Dateneingabe!C44,C43)","v":0},{"$f":"IF(Dateneingabe!D44>\"\",Dateneingabe!D44,D43)","v":0},{"$f":"Dateneingabe!E44","v":0},{"$f":"Dateneingabe!F44","v":0},"","",{"$f":"VLOOKUP(H44,Stammdaten!A$4:B$15,2,TRUE)","v":{"$error":"#N/A"}},{"$error":"#VALUE!"},{"$error":"#VALUE!"},{"$f":"VLOOKUP(H44,Stammdaten!A$4:C$15,3,TRUE)","v":{"$error":"#N/A"}},0,{"$error":"#VALUE!"},{"$error":"#VALUE!"},0,"",{"$error":"#VALUE!"}]
[{"$f":"IF(Dateneingabe!A45>0,Dateneingabe!A45,\"\")","v":""},{"$f":"Dateneingabe!B45","v":0},{"$f":"IF(Dateneingabe!C45<>\"\",Dateneingabe!C45,C44)","v":0},{"$f":"IF(Dateneingabe!D45>\"\",Dateneingabe!D45,D44)","v":0},{"$f":"Dateneingabe!E45","v":0},{"$f":"Dateneingabe!F45","v":0},"","",{"$f":"VLOOKUP(H45,Stammdaten!A$4:B$15,2,TRUE)","v":{"$error":"#N/A"}},{"$error":"#VALUE!"},{"$error":"#VALUE!"},{"$f":"VLOOKUP(H45,Stammdaten!A$4:C$15,3,TRUE)","v":{"$error":"#N/A"}},0,{"$error":"#VALUE!"},{"$error":"#VALUE!"},0,"",{"$error":"#VALUE!"}]
[{"$f":"IF(Dateneingabe!A46>0,Dateneingabe!A46,\"\")","v":""},{"$f":"Dateneingabe!B46","v":0},{"$f":"IF(Dateneingabe!C46<>\"\",Dateneingabe!C46,C45)","v":0},{"$f":"IF(Dateneingabe!D46>\"\",Dateneingabe!D46,D45)","v":0},{"$f":"Dateneingabe!E46","v":0},{"$f":"Dateneingabe!F46","v":0},"","",{"$f":"VLOOKUP(H46,Stammdaten!A$4:B$15,2,TRUE)","v":{"$error":"#N/A"}},{"$error":"#VALUE!"},{"$error":"#VALUE!"},{"$f":"VLOOKUP(H46,Stammdaten!A$4:C$15,3,TRUE)","v":{"$error":"#N/A"}},0,{"$error":"#VALUE!"},{"$error":"#VALUE!"},0,"",{"$error":"#VALUE!"}]
[{"$f":"IF(Dateneingabe!A47>0,Dateneingabe!A47,\"\")","v":""},{"$f":"Dateneingabe!B47","v":0},{"$f":"IF(Dateneingabe!C47<>\"\",Dateneingabe!C47,C46)","v":0},{"$f":"IF(Dateneingabe!D47>\"\",Dateneingabe!D47,D46)","v":0},{"$f":"Dateneingabe!E47","v":0},{"$f":"Dateneingabe!F47","v":0},"","",{"$f":"VLOOKUP(H47,Stammdaten!A$4:B$15,2,TRUE)","v":{"$error":"#N/A"}},{"$error":"#VALUE!"},{"$error":"#VALUE!"},{"$f":"VLOOKUP(H47,Stammdaten!A$4:C$15,3,TRUE)","v":{"$error":"#N/A"}},0,{"$error":"#VALUE!"},{"$error":"#VALUE!"},0,"",{"$error":"#VALUE!"}]
[{"$f":"IF(Dateneingabe!A48>0,Dateneingabe!A48,\"\")","v":""},{"$f":"Dateneingabe!B48","v":0},{"$f":"IF(Dateneingabe!C48<>\"\",Dateneingabe!C48,C47)","v":0},{"$f":"IF(Dateneingabe!D48>\"\",Dateneingabe!D48,D47)","v":0},{"$f":"Dateneingabe!E48","v":0},{"$f":"Dateneingabe!F48","v":0},"","",{"$f":"VLOOKUP(H48,Stammdaten!A$4:B$15,2,TRUE)","v":{"$error":"#N/A"}},{"$error":"#VALUE!"},{"$error":"#VALUE!"},{"$f":"VLOOKUP(H48,Stammdaten!A$4:C$15,3,TRUE)","v":{"$error":"#N/A"}},0,{"$error":"#VALUE!"},{"$error":"#VALUE!"},0,"",{"$error":"#VALUE!"}]
[{"$f":"IF(Dateneingabe!A49>0,Dateneingabe!A49,\"\")","v":""},{"$f":"Dateneingabe!B49","v":0},{"$f":"IF(Dateneingabe!C49<>\"\",Dateneingabe!C49,C48)","v":0},{"$f":"IF(Dateneingabe!D49>\"\",Dateneingabe!D49,D48)","v":0},{"$f":"Dateneingabe!E49","v":0},{"$f":"Dateneingabe!F49","v":0},"","",{"$f":"VLOOKUP(H49,Stammdaten!A$4:B$15,2,TRUE)","v":{"$error":"#N/A"}},{"$error":"#VALUE!"},{"$error":"#VALUE!"},{"$f":"VLOOKUP(H49,Stammdaten!A$4:C$15,3,TRUE)","v":{"$error":"#N/A"}},0,{"$error":"#VALUE!"},{"$error":"#VALUE!"},0,"",{"$error":"#VALUE!"}]
[{"$f":"IF(Dateneingabe!A50>0,Dateneingabe!A50,\"\")","v":""},{"$f":"Dateneingabe!B50","v":0},{"$f":"IF(Dateneingabe!C50<>\"\",Dateneingabe!C50,C49)","v":0},{"$f":"IF(Dateneingabe!D50>\"\",Dateneingabe!D50,D49)","v":0},{"$f":"Dateneingabe!E50","v":0},{"$f":"Dateneingabe!F50","v":0},"","",{"$f":"VLOOKUP(H50,Stammdaten!A$4:B$15,2,TRUE)","v":{"$error":"#N/A"}},{"$error":"#VALUE!"},{"$error":"#VALUE!"},{"$f":"VLOOKUP(H50,Stammdaten!A$4:C$15,3,TRUE)","v":{"$error":"#N/A"}},0,{"$error":"#VALUE!"},{"$error":"#VALUE!"},0,"",{"$error":"#VALUE!"}]
[{"$f":"IF(Dateneingabe!A51>0,Dateneingabe!A51,\"\")","v":""},{"$f":"Dateneingabe!B51","v":0},{"$f":"IF(Dateneingabe!C51<>\"\",Dateneingabe!C51,C50)","v":0},{"$f":"IF(Dateneingabe!D51>\"\",Dateneingabe!D51,D50)","v":0},{"$f":"Dateneingabe!E51","v":0},{"$f":"Dateneingabe!F51","v":0},"","",{"$f":"VLOOKUP(H51,Stammdaten!A$4:B$15,2,TRUE)","v":{"$error":"#N/A"}},{"$error":"#VALUE!"},{"$error":"#VALUE!"},{"$f":"VLOOKUP(H51,Stammdaten!A$4:C$15,3,TRUE)","v":{"$error":"#N/A"}},0,{"$error":"#VALUE!"},{"$error":"#VALUE!"},0,"",{"$error":"#VALUE!"}]
[{"$f":"IF(Dateneingabe!A52>0,Dateneingabe!A52,\"\")","v":""},{"$f":"Dateneingabe!B52","v":0},{"$f":"IF(Dateneingabe!C52<>\"\",Dateneingabe!C52,C51)","v":0},{"$f":"IF(Dateneingabe!D52>\"\",Dateneingabe!D52,D51)","v":0},{"$f":"Dateneingabe!E52","v":0},{"$f":"Dateneingabe!F52","v":0},"","",{"$f":"VLOOKUP(H52,Stammdaten!A$4:B$15,2,TRUE)","v":{"$error":"#N/A"}},{"$error":"#VALUE!"},{"$error":"#VALUE!"},{"$f":"VLOOKUP(H52,Stammdaten!A$4:C$15,3,TRUE)","v":{"$error":"#N/A"}},0,{"$error":"#VALUE!"},{"$error":"#VALUE!"},0,"",{"$error":"#VALUE!"}]
[{"$f":"IF(Dateneingabe!A53>0,Dateneingabe!A53,\"\")","v":""},{"$f":"Dateneingabe!B53","v":0},{"$f":"IF(Dateneingabe!C53<>\"\",Dateneingabe!C53,C52)","v":0},{"$f":"IF(Dateneingabe!D53>\"\",Dateneingabe!D53,D52)","v":0},{"$f":"Dateneingabe!E53","v":0},{"$f":"Dateneingabe!F53","v":0},"","",{"$f":"VLOOKUP(H53,Stammdaten!A$4:B$15,2,TRUE)","v":{"$error":"#N/A"}},{"$error":"#VALUE!"},{"$error":"#VALUE!"},{"$f":"VLOOKUP(H53,Stammdaten!A$4:C$15,3,TRUE)","v":{"$error":"#N/A"}},0,{"$error":"#VALUE!"},{"$error":"#VALUE!"},0,"",{"$error":"#VALUE!"}]
[{"$f":"IF(Dateneingabe!A54>0,Dateneingabe!A54,\"\")","v":""},{"$f":"Dateneingabe!B54","v":0},{"$f":"IF(Dateneingabe!C54<>\"\",Dateneingabe!C54,C53)","v":0},{"$f":"IF(Dateneingabe!D54>\"\",Dateneingabe!D54,D53)","v":0},{"$f":"Dateneingabe!E54","v":0},{"$f":"Dateneingabe!F54","v":0},"","",{"$f":"VLOOKUP(H54,Stammdaten!A$4:B$15,2,TRUE)","v":{"$error":"#N/A"}},{"$error":"#VALUE!"},{"$error":"#VALUE!"},{"$f":"VLOOKUP(H54,Stammdaten!A$4:C$15,3,TRUE)","v":{"$error":"#N/A"}},0,{"$error":"#VALUE!"},{"$error":"#VALUE!"},0,"",{"$error":"#VALUE!"}]
[{"$f":"IF(Dateneingabe!A55>0,Dateneingabe!A55,\"\")","v":""},{"$f":"Dateneingabe!B55","v":0},{"$f":"IF(Dateneingabe!C55<>\"\",Dateneingabe!C55,C54)","v":0},{"$f":"IF(Dateneingabe!D55>\"\",Dateneingabe!D55,D54)","v":0},{"$f":"Dateneingabe!E55","v":0},{"$f":"Dateneingabe!F55","v":0},"","",{"$f":"VLOOKUP(H55,Stammdaten!A$4:B$15,2,TRUE)","v":{"$error":"#N/A"}},{"$error":"#VALUE!"},{"$error":"#VALUE!"},{"$f":"VLOOKUP(H55,Stammdaten!A$4:C$15,3,TRUE)","v":{"$error":"#N/A"}},0,{"$f":"M55/(A55-A54)","v":{"$error":"#VALUE!"}},{"$error":"#VALUE!"},0,"",{"$error":"#VALUE!"}]
[{"$f":"IF(Dateneingabe!A56>0,Dateneingabe!A56,\"\")","v":""},{"$f":"Dateneingabe!B56","v":0},{"$f":"IF(Dateneingabe!C56<>\"\",Dateneingabe!C56,C55)","v":0},{"$f":"IF(Dateneingabe!D56>\"\",Dateneingabe!D56,D55)","v":0},{"$f":"Dateneingabe!E56","v":0},{"$f":"Dateneingabe!F56","v":0},"","",{"$f":"VLOOKUP(H56,Stammdaten!A$4:B$15,2,TRUE)","v":{"$error":"#N/A"}},{"$error":"#VALUE!"},{"$error":"#VALUE!"},{"$f":"VLOOKUP(H56,Stammdaten!A$4:C$15,3,TRUE)","v":{"$error":"#N/A"}},0,{"$error":"#VALUE!"},{"$error":"#VALUE!"},0,"",{"$error":"#VALUE!"}]
[{"$f":"IF(Dateneingabe!A57>0,Dateneingabe!A57,\"\")","v":""},{"$f":"Dateneingabe!B57","v":0},{"$f":"IF(Dateneingabe!C57<>\"\",Dateneingabe!C57,C56)","v":0},{"$f":"IF(Dateneingabe!D57>\"\",Dateneingabe!D57,D56)","v":0},{"$f":"Dateneingabe!E57","v":0},{"$f":"Dateneingabe!F57","v":0},"","",{"$f":"VLOOKUP(H57,Stammdaten!A$4:B$15,2,TRUE)","v":{"$error":"#N/A"}},{"$error":"#VALUE!"},{"$error":"#VALUE!"},{"$f":"VLOOKUP(H57,Stammdaten!A$4:C$15,3,TRUE)","v":{"$error":"#N/A"}},0,{"$error":"#VALUE!"},{"$error":"#VALUE!"},0,"",{"$error":"#VALUE!"}]
[{"$f":"IF(Dateneingabe!A58>0,Dateneingabe!A58,\"\")","v":""},{"$f":"Dateneingabe!B58","v":0},{"$f":"IF(Dateneingabe!C58<>\"\",Dateneingabe!C58,C57)","v":0},{"$f":"IF(Dateneingabe!D58>\"\",Dateneingabe!D58,D57)","v":0},{"$f":"Dateneingabe!E58","v":0},{"$f":"Dateneingabe!F58","v":0},"","",{"$f":"VLOOKUP(H58,Stammdaten!A$4:B$15,2,TRUE)","v":{"$error":"#N/A"}},{"$error":"#VALUE!"},{"$error":"#VALUE!"},{"$f":"VLOOKUP(H58,Stammdaten!A$4:C$15,3,TRUE)","v":{"$error":"#N/A"}},0,{"$error":"#VALUE!"},{"$error":"#VALUE!"},0,"",{"$error":"#VALUE!"}]
[{"$f":"IF(Dateneingabe!A59>0,Dateneingabe!A59,\"\")","v":""},{"$f":"Dateneingabe!B59","v":0},{"$f":"IF(Dateneingabe!C59<>\"\",Dateneingabe!C59,C58)","v":0},{"$f":"IF(Dateneingabe!D59>\"\",Dateneingabe!D59,D58)","v":0},{"$f":"Dateneingabe!E59","v":0},{"$f":"Dateneingabe!F59","v":0},"","",{"$f":"VLOOKUP(H59,Stammdaten!A$4:B$15,2,TRUE)","v":{"$error":"#N/A"}},{"$error":"#VALUE!"},{"$error":"#VALUE!"},{"$f":"VLOOKUP(H59,Stammdaten!A$4:C$15,3,TRUE)","v":{"$error":"#N/A"}},0,{"$error":"#VALUE!"},{"$error":"#VALUE!"},0,"",{"$error":"#VALUE!"}]
[{"$f":"IF(Dateneingabe!A60>0,Dateneingabe!A60,\"\")","v":""},{"$f":"Dateneingabe!B60","v":0},{"$f":"IF(Dateneingabe!C60<>\"\",Dateneingabe!C60,C59)","v":0},{"$f":"IF(Dateneingabe!D60>\"\",Dateneingabe!D60,D59)","v":0},{"$f":"Dateneingabe!E60","v":0},{"$f":"Dateneingabe!F60","v":0},"","",{"$f":"VLOOKUP(H60,Stammdaten!A$4:B$15,2,TRUE)","v":{"$error":"#N/A"}},{"$error":"#VALUE!"},{"$error":"#VALUE!"},{"$f":"VLOOKUP(H60,Stammdaten!A$4:C$15,3,TRUE)","v":{"$error":"#N/A"}},0,{"$error":"#VALUE!"},{"$error":"#VALUE!"},0,"",{"$error":"#VALUE!"}]
[{"$f":"IF(Dateneingabe!A61>0,Dateneingabe!A61,\"\")","v":""},{"$f":"Dateneingabe!B61","v":0},{"$f":"IF(Dateneingabe!C61<>\"\",Dateneingabe!C61,C60)","v":0},{"$f":"IF(Dateneingabe!D61>\"\",Dateneingabe!D61,D60)","v":0},{"$f":"Dateneingabe!E61","v":0},{"$f":"Dateneingabe!F61","v":0},"","",{"$f":"VLOOKUP(H61,Stammdaten!A$4:B$15,2,TRUE)","v":{"$error":"#N/A"}},{"$error":"#VALUE!"},{"$error":"#VALUE!"},{"$f":"VLOOKUP(H61,Stammdaten!A$4:C$15,3,TRUE)","v":{"$error":"#N/A"}},0,{"$error":"#VALUE!"},{"$error":"#VALUE!"},0,"",{"$error":"#VALUE!"}]
[{"$f":"IF(Dateneingabe!A62>0,Dateneingabe!A62,\"\")","v":""},{"$f":"Dateneingabe!B62","v":0},{"$f":"IF(Dateneingabe!C62<>\"\",Dateneingabe!C62,C61)","v":0},{"$f":"IF(Dateneingabe!D62>\"\",Dateneingabe!D62,D61)","v":0},{"$f":"Dateneingabe!E62","v":0},{"$f":"Dateneingabe!F62","v":0},"","",{"$f":"VLOOKUP(H62,Stammdaten!A$4:B$15,2,TRUE)","v":{"$error":"#N/A"}},{"$error":"#VALUE!"},{"$error":"#VALUE!"},{"$f":"VLOOKUP(H62,Stammdaten!A$4:C$15,3,TRUE)","v":{"$error":"#N/A"}},0,{"$error":"#VALUE!"},{"$error":"#VALUE!"},0,"",{"$error":"#VALUE!"}]
[{"$f":"IF(Dateneingabe!A63>0,Dateneingabe!A63,\"\")","v":""},{"$f":"Dateneingabe!B63","v":0},{"$f":"IF(Dateneingabe!C63<>\"\",Dateneingabe!C63,C62)","v":0},{"$f":"IF(Dateneingabe!D63>\"\",Dateneingabe!D63,D62)","v":0},{"$f":"Dateneingabe!E63","v":0},{"$f":"Dateneingabe!F63","v":0},"","",{"$f":"VLOOKUP(H63,Stammdaten!A$4:B$15,2,TRUE)","v":{"$error":"#N/A"}},{"$error":"#VALUE!"},{"$error":"#VALUE!"},{"$f":"VLOOKUP(H63,Stammdaten!A$4:C$15,3,TRUE)","v":{"$error":"#N/A"}},0,{"$error":"#VALUE!"},{"$error":"#VALUE!"},0,"",{"$error":"#VALUE!"}]
[{"$f":"IF(Dateneingabe!A64>0,Dateneingabe!A64,\"\")","v":""},{"$f":"Dateneingabe!B64","v":0},{"$f":"IF(Dateneingabe!C64<>\"\",Dateneingabe!C64,C63)","v":0},{"$f":"IF(Dateneingabe!D64>\"\",Dateneingabe!D64,D63)","v":0},{"$f":"Dateneingabe!E64","v":0},{"$f":"Dateneingabe!F64","v":0},"","",{"$f":"VLOOKUP(H64,Stammdaten!A$4:B$15,2,TRUE)","v":{"$error":"#N/A"}},{"$error":"#VALUE!"},{"$error":"#VALUE!"},{"$f":"VLOOKUP(H64,Stammdaten!A$4:C$15,3,TRUE)","v":{"$error":"#N/A"}},0,{"$error":"#VALUE!"},{"$error":"#VALUE!"},0,"",{"$error":"#VALUE!"}]
[{"$f":"IF(Dateneingabe!A65>0,Dateneingabe!A65,\"\")","v":""},{"$f":"Dateneingabe!B65","v":0},{"$f":"IF(Dateneingabe!C65<>\"\",Dateneingabe!C65,C64)","v":0},{"$f":"IF(Dateneingabe!D65>\"\",Dateneingabe!D65,D64)","v":0},{"$f":"Dateneingabe!E65","v":0},{"$f":"Dateneingabe!F65","v":0},"","",{"$f":"VLOOKUP(H65,Stammdaten!A$4:B$15,2,TRUE)","v":{"$error":"#N/A"}},{"$error":"#VALUE!"},{"$error":"#VALUE!"},{"$f":"VLOOKUP(H65,Stammdaten!A$4:C$15,3,TRUE)","v":{"$error":"#N/A"}},0,{"$error":"#VALUE!"},{"$error":"#VALUE!"},0,"",{"$error":"#VALUE!"}]
[{"$f":"IF(Dateneingabe!A66>0,Dateneingabe!A66,\"\")","v":""},{"$f":"Dateneingabe!B66","v":0},{"$f":"IF(Dateneingabe!C66<>\"\",Dateneingabe!C66,C65)","v":0},{"$f":"IF(Dateneingabe!D66>\"\",Dateneingabe!D66,D65)","v":0},{"$f":"Dateneingabe!E66","v":0},{"$f":"Dateneingabe!F66","v":0},"","",{"$f":"VLOOKUP(H66,Stammdaten!A$4:B$15,2,TRUE)","v":{"$error":"#N/A"}},{"$error":"#VALUE!"},{"$error":"#VALUE!"},{"$f":"VLOOKUP(H66,Stammdaten!A$4:C$15,3,TRUE)","v":{"$error":"#N/A"}},0,{"$error":"#VALUE!"},{"$error":"#VALUE!"},0,"",{"$error":"#VALUE!"}]
[{"$f":"IF(Dateneingabe!A67>0,Dateneingabe!A67,\"\")","v":""},{"$f":"Dateneingabe!B67","v":0},{"$f":"IF(Dateneingabe!C67<>\"\",Dateneingabe!C67,C66)","v":0},{"$f":"IF(Dateneingabe!D67>\"\",Dateneingabe!D67,D66)","v":0},{"$f":"Dateneingabe!E67","v":0},{"$f":"Dateneingabe!F67","v":0},"","",{"$f":"VLOOKUP(H67,Stammdaten!A$4:B$15,2,TRUE)","v":{"$error":"#N/A"}},{"$error":"#VALUE!"},{"$error":"#VALUE!"},{"$f":"VLOOKUP(H67,Stammdaten!A$4:C$15,3,TRUE)","v":{"$error":"#N/A"}},0,{"$error":"#VALUE!"},{"$error":"#VALUE!"},0,"",{"$error":"#VALUE!"}]
[{"$f":"IF(Dateneingabe!A68>0,Dateneingabe!A68,\"\")","v":""},{"$f":"Dateneingabe!B68","v":0},{"$f":"IF(Dateneingabe!C68<>\"\",Dateneingabe!C68,C67)","v":0},{"$f":"IF(Dateneingabe!D68>\"\",Dateneingabe!D68,D67)","v":0},{"$f":"Dateneingabe!E68","v":0},{"$f":"Dateneingabe!F68","v":0},"","",{"$f":"VLOOKUP(H68,Stammdaten!A$4:B$15,2,TRUE)","v":{"$error":"#N/A"}},{"$error":"#VALUE!"},{"$error":"#VALUE!"},{"$f":"VLOOKUP(H68,Stammdaten!A$4:C$15,3,TRUE)","v":{"$error":"#N/A"}},0,{"$error":"#VALUE!"},{"$error":"#VALUE!"},0,"",{"$error":"#VALUE!"}]
[{"$f":"IF(Dateneingabe!A69>0,Dateneingabe!A69,\"\")","v":""},{"$f":"Dateneingabe!B69","v":0},{"$f":"IF(Dateneingabe!C69<>\"\",Dateneingabe!C69,C68)","v":0},{"$f":"IF(Dateneingabe!D69>\"\",Dateneingabe!D69,D68)","v":0},{"$f":"Dateneingabe!E69","v":0},{"$f":"Dateneingabe!F69","v":0},"","",{"$f":"VLOOKUP(H69,Stammdaten!A$4:B$15,2,TRUE)","v":{"$error":"#N/A"}},{"$error":"#VALUE!"},{"$error":"#VALUE!"},{"$f":"VLOOKUP(H69,Stammdaten!A$4:C$15,3,TRUE)","v":{"$error":"#N/A"}},0,{"$error":"#VALUE!"},{"$error":"#VALUE!"},0,"",{"$error":"#VALUE!"}]
[{"$f":"IF(Dateneingabe!A70>0,Dateneingabe!A70,\"\")","v":""},{"$f":"Dateneingabe!B70","v":0},{"$f":"IF(Dateneingabe!C70<>\"\",Dateneingabe!C70,C69)","v":0},{"$f":"IF(Dateneingabe!D70>\"\",Dateneingabe!D70,D69)","v":0},{"$f":"Dateneingabe!E70","v":0},{"$f":"Dateneingabe!F70","v":0},"","",{"$f":"VLOOKUP(H70,Stammdaten!A$4:B$15,2,TRUE)","v":{"$error":"#N/A"}},{"$error":"#VALUE!"},{"$error":"#VALUE!"},{"$f":"VLOOKUP(H70,Stammdaten!A$4:C$15,3,TRUE)","v":{"$error":"#N/A"}},0,{"$error":"#VALUE!"},{"$error":"#VALUE!"},0,"",{"$error":"#VALUE!"}]
[{"$f":"IF(Dateneingabe!A71>0,Dateneingabe!A71,\"\")","v":""},{"$f":"Dateneingabe!B71","v":0},{"$f":"IF(Dateneingabe!C71<>\"\",Dateneingabe!C71,C70)","v":0},{"$f":"IF(Dateneingabe!D71>\"\",Dateneingabe!D71,D70)","v":0},{"$f":"Dateneingabe!E71","v":0},{"$f":"Dateneingabe!F71","v":0},"","",{"$f":"VLOOKUP(H71,Stammdaten!A$4:B$15,2,TRUE)","v":{"$error":"#N/A"}},{"$error":"#VALUE!"},{"$error":"#VALUE!"},{"$f":"VLOOKUP(H71,Stammdaten!A$4:C$15,3,TRUE)","v":{"$error":"#N/A"}},0,{"$error":"#VALUE!"},{"$error":"#VALUE!"},0,"",{"$error":"#VALUE!"}]
[{"$f":"IF(Dateneingabe!A72>0,Dateneingabe!A72,\"\")","v":""},{"$f":"Dateneingabe!B72","v":0},{"$f":"IF(Dateneingabe!C72<>\"\",Dateneingabe!C72,C71)","v":0},{"$f":"IF(Dateneingabe!D72>\"\",Dateneingabe!D72,D71)","v":0},{"$f":"Dateneingabe!E72","v":0},{"$f":"Dateneingabe!F72","v":0},"","",{"$f":"VLOOKUP(H72,Stammdaten!A$4:B$15,2,TRUE)","v":{"$error":"#N/A"}},{"$error":"#VALUE!"},{"$error":"#VALUE!"},{"$f":"VLOOKUP(H72,Stammdaten!A$4:C$15,3,TRUE)","v":{"$error":"#N/A"}},0,{"$error":"#VALUE!"},{"$error":"#VALUE!"},0,"",{"$error":"#VALUE!"}]
[{"$f":"IF(Dateneingabe!A73>0,Dateneingabe!A73,\"\")","v":""},{"$f":"Dateneingabe!B73","v":0},{"$f":"IF(Dateneingabe!C73<>\"\",Dateneingabe!C73,C72)","v":0},{"$f":"IF(Dateneingabe!D73>\"\",Dateneingabe!D73,D72)","v":0},{"$f":"Dateneingabe!E73","v":0},{"$f":"Dateneingabe!F73","v":0},"","",{"$f":"VLOOKUP(H73,Stammdaten!A$4:B$15,2,TRUE)","v":{"$error":"#N/A"}},{"$error":"#VALUE!"},{"$error":"#VALUE!"},{"$f":"VLOOKUP(H73,Stammdaten!A$4:C$15,3,TRUE)","v":{"$error":"#N/A"}},0,{"$error":"#VALUE!"},{"$error":"#VALUE!"},0,"",{"$error":"#VALUE!"}]
[{"$f":"IF(Dateneingabe!A74>0,Dateneingabe!A74,\"\")","v":""},{"$f":"Dateneingabe!B74","v":0},{"$f":"IF(Dateneingabe!C74<>\"\",Dateneingabe!C74,C73)","v":0},{"$f":"IF(Dateneingabe!D74>\"\",Dateneingabe!D74,D73)","v":0},{"$f":"Dateneingabe!E74","v":0},{"$f":"Dateneingabe!F74","v":0},"","",{"$f":"VLOOKUP(H74,Stammdaten!A$4:B$15,2,TRUE)","v":{"$error":"#N/A"}},{"$error":"#VALUE!"},{"$error":"#VALUE!"},{"$f":"VLOOKUP(H74,Stammdaten!A$4:C$15,3,TRUE)","v":{"$error":"#N/A"}},0,{"$error":"#VALUE!"},{"$error":"#VALUE!"},0,"",{"$error":"#VALUE!"}]
[{"$f":"IF(Dateneingabe!A75>0,Dateneingabe!A75,\"\")","v":""},{"$f":"Dateneingabe!B75","v":0},{"$f":"IF(Dateneingabe!C75<>\"\",Dateneingabe!C75,C74)","v":0},{"$f":"IF(Dateneingabe!D75>\"\",Dateneingabe!D75,D74)","v":0},{"$f":"Dateneingabe!E75","v":0},{"$f":"Dateneingabe!F75","v":0},"","",{"$f":"VLOOKUP(H75,Stammdaten!A$4:B$15,2,TRUE)","v":{"$error":"#N/A"}},{"$error":"#VALUE!"},{"$error":"#VALUE!"},{"$f":"VLOOKUP(H75,Stammdaten!A$4:C$15,3,TRUE)","v":{"$error":"#N/A"}},0,{"$error":"#VALUE!"},{"$error":"#VALUE!"},0,"",{"$error":"#VALUE!"}]
[{"$f":"IF(Dateneingabe!A76>0,Dateneingabe!A76,\"\")","v":""},{"$f":"Dateneingabe!B76","v":0},{"$f":"IF(Dateneingabe!C76<>\"\",Dateneingabe!C76,C75)","v":0},{"$f":"IF(Dateneingabe!D76>\"\",Dateneingabe!D76,D75)","v":0},{"$f":"Dateneingabe!E76","v":0},{"$f":"Dateneingabe!F76","v":0},{"$f":"IF(A76<>\"\",YEAR(A76-5),\"\")","v":""},"",{"$f":"VLOOKUP(H76,Stammdaten!A$4:B$15,2,TRUE)","v":{"$error":"#N/A"}},{"$error":"#VALUE!"},{"$f":"A76-A75","v":{"$error":"#VALUE!"}},{"$f":"VLOOKUP(H76,Stammdaten!A$4:C$15,3,TRUE)","v":{"$error":"#N/A"}},{"$f":"(B76+E76-B75-F76)","v":0},{"$error":"#VALUE!"},{"$f":"SUMIFS($K$11:$K$106,$H$11:$H$106,H76,$G$11:$G$106,G76)","v":{"$error":"#VALUE!"}},{"$f":"SUMIFS($M$11:$M$106,$H$11:$H$106,H76,$G$11:$G$106,G76)","v":0},{"$f":"IF(AND(H76=H77,G77=G76),\"\",(P76/O76))","v":""},{"$f":"IF(M76=\"\",\"\",(C76*K76/L76)+(D76*M76))","v":{"$error":"#VALUE!"}}]
[{"$f":"IF(Dateneingabe!A77>0,Dateneingabe!A77,\"\")","v":""},{"$f":"Dateneingabe!B77","v":0},{"$f":"IF(Dateneingabe!C77<>\"\",Dateneingabe!C77,C76)","v":0},{"$f":"IF(Dateneingabe!D77>\"\",Dateneingabe!D77,D76)","v":0},{"$f":"Dateneingabe!E77","v":0},{"$f":"Dateneingabe!F77","v":0},"","",{"$f":"VLOOKUP(H77,Stammdaten!A$4:B$15,2,TRUE)","v":{"$error":"#N/A"}},{"$error":"#VALUE!"},{"$error":"#VALUE!"},{"$f":"VLOOKUP(H77,Stammdaten!A$4:C$15,3,TRUE)","v":{"$error":"#N/A"}},0,{"$error":"#VALUE!"},{"$error":"#VALUE!"},0,"",{"$error":"#VALUE!"}]
[{"$f":"IF(Dateneingabe!A78>0,Dateneingabe!A78,\"\")","v":""},{"$f":"Dateneingabe!B78","v":0},{"$f":"IF(Dateneingabe!C78<>\"\",Dateneingabe!C78,C77)","v":0},{"$f":"IF(Dateneingabe!D78>\"\",Dateneingabe!D78,D77)","v":0},{"$f":"Dateneingabe!E78","v":0},{"$f":"Dateneingabe!F78","v":0},"","",{"$f":"VLOOKUP(H78,Stammdaten!A$4:B$15,2,TRUE)","v":{"$error":"#N/A"}},{"$error":"#VALUE!"},{"$error":"#VALUE!"},{"$f":"VLOOKUP(H78,Stammdaten!A$4:C$15,3,TRUE)","v":{"$error":"#N/A"}},0,{"$error":"#VALUE!"},{"$error":"#VALUE!"},0,"",{"$error":"#VALUE!"}]
[{"$f":"IF(Dateneingabe!A79>0,Dateneingabe!A79,\"\")","v":""},{"$f":"Dateneingabe!B79","v":0},{"$f":"IF(Dateneingabe!C79<>\"\",Dateneingabe!C79,C78)","v":0},{"$f":"IF(Dateneingabe!D79>\"\",Dateneingabe!D79,D78)","v":0},{"$f":"Dateneingabe!E79","v":0},{"$f":"Dateneingabe!F79","v":0},"",{"$f":"IF(A79<>\"\",(MONTH(A79-5)),\"\")","v":""},{"$f":"VLOOKUP(H79,Stammdaten!A$4:B$15,2,TRUE)","v":{"$error":"#N/A"}},{"$error":"#VALUE!"},{"$error":"#VALUE!"},{"$f":"VLOOKUP(H79,Stammdaten!A$4:C$15,3,TRUE)","v":{"$error":"#N/A"}},0,{"$error":"#VALUE!"},{"$error":"#VALUE!"},0,"",{"$error":"#VALUE!"}]
[{"$f":"IF(Dateneingabe!A80>0,Dateneingabe!A80,\"\")","v":""},{"$f":"Dateneingabe!B80","v":0},{"$f":"IF(Dateneingabe!C80<>\"\",Dateneingabe!C80,C79)","v":0},{"$f":"IF(Dateneingabe!D80>\"\",Dateneingabe!D80,D79)","v":0},{"$f":"Dateneingabe!E80","v":0},{"$f":"Dateneingabe!F80","v":0},"","",{"$f":"VLOOKUP(H80,Stammdaten!A$4:B$15,2,TRUE)","v":{"$error":"#N/A"}},{"$error":"#VALUE!"},{"$error":"#VALUE!"},{"$f":"VLOOKUP(H80,Stammdaten!A$4:C$15,3,TRUE)","v":{"$error":"#N/A"}},0,{"$error":"#VALUE!"},{"$error":"#VALUE!"},0,"",{"$error":"#VALUE!"}]
[{"$f":"IF(Dateneingabe!A81>0,Dateneingabe!A81,\"\")","v":""},{"$f":"Dateneingabe!B81","v":0},{"$f":"IF(Dateneingabe!C81<>\"\",Dateneingabe!C81,C80)","v":0},{"$f":"IF(Dateneingabe!D81>\"\",Dateneingabe!D81,D80)","v":0},{"$f":"Dateneingabe!E81","v":0},{"$f":"Dateneingabe!F81","v":0},"","",{"$f":"VLOOKUP(H81,Stammdaten!A$4:B$15,2,TRUE)","v":{"$error":"#N/A"}},{"$error":"#VALUE!"},{"$error":"#VALUE!"},{"$f":"VLOOKUP(H81,Stammdaten!A$4:C$15,3,TRUE)","v":{"$error":"#N/A"}},0,{"$error":"#VALUE!"},{"$error":"#VALUE!"},0,"",{"$error":"#VALUE!"}]
[{"$f":"IF(Dateneingabe!A82>0,Dateneingabe!A82,\"\")","v":""},{"$f":"Dateneingabe!B82","v":0},{"$f":"IF(Dateneingabe!C82<>\"\",Dateneingabe!C82,C81)","v":0},{"$f":"IF(Dateneingabe!D82>\"\",Dateneingabe!D82,D81)","v":0},{"$f":"Dateneingabe!E82","v":0},{"$f":"Dateneingabe!F82","v":0},"","",{"$f":"VLOOKUP(H82,Stammdaten!A$4:B$15,2,TRUE)","v":{"$error":"#N/A"}},{"$error":"#VALUE!"},{"$error":"#VALUE!"},{"$f":"VLOOKUP(H82,Stammdaten!A$4:C$15,3,TRUE)","v":{"$error":"#N/A"}},0,{"$error":"#VALUE!"},{"$error":"#VALUE!"},0,"",{"$error":"#VALUE!"}]
[{"$f":"IF(Dateneingabe!A83>0,Dateneingabe!A83,\"\")","v":""},{"$f":"Dateneingabe!B83","v":0},{"$f":"IF(Dateneingabe!C83<>\"\",Dateneingabe!C83,C82)","v":0},{"$f":"IF(Dateneingabe!D83>\"\",Dateneingabe!D83,D82)","v":0},{"$f":"Dateneingabe!E83","v":0},{"$f":"Dateneingabe!F83","v":0},"","",{"$f":"VLOOKUP(H83,Stammdaten!A$4:B$15,2,TRUE)","v":{"$error":"#N/A"}},{"$error":"#VALUE!"},{"$error":"#VALUE!"},{"$f":"VLOOKUP(H83,Stammdaten!A$4:C$15,3,TRUE)","v":{"$error":"#N/A"}},0,{"$error":"#VALUE!"},{"$error":"#VALUE!"},0,"",{"$error":"#VALUE!"}]
[{"$f":"IF(Dateneingabe!A84>0,Dateneingabe!A84,\"\")","v":""},{"$f":"Dateneingabe!B84","v":0},{"$f":"IF(Dateneingabe!C84<>\"\",Dateneingabe!C84,C83)","v":0},{"$f":"IF(Dateneingabe!D84>\"\",Dateneingabe!D84,D83)","v":0},{"$f":"Dateneingabe!E84","v":0},{"$f":"Dateneingabe!F84","v":0},"","",{"$f":"VLOOKUP(H84,Stammdaten!A$4:B$15,2,TRUE)","v":{"$error":"#N/A"}},{"$error":"#VALUE!"},{"$error":"#VALUE!"},{"$f":"VLOOKUP(H84,Stammdaten!A$4:C$15,3,TRUE)","v":{"$error":"#N/A"}},0,{"$error":"#VALUE!"},{"$error":"#VALUE!"},0,"",{"$error":"#VALUE!"}]
[{"$f":"IF(Dateneingabe!A85>0,Dateneingabe!A85,\"\")","v":""},{"$f":"Dateneingabe!B85","v":0},{"$f":"IF(Dateneingabe!C85<>\"\",Dateneingabe!C85,C84)","v":0},{"$f":"IF(Dateneingabe!D85>\"\",Dateneingabe!D85,D84)","v":0},{"$f":"Dateneingabe!E85","v":0},{"$f":"Dateneingabe!F85","v":0},"","",{"$f":"VLOOKUP(H85,Stammdaten!A$4:B$15,2,TRUE)","v":{"$error":"#N/A"}},{"$error":"#VALUE!"},{"$error":"#VALUE!"},{"$f":"VLOOKUP(H85,Stammdaten!A$4:C$15,3,TRUE)","v":{"$error":"#N/A"}},0,{"$error":"#VALUE!"},{"$error":"#VALUE!"},0,"",{"$error":"#VALUE!"}]
[{"$f":"IF(Dateneingabe!A86>0,Dateneingabe!A86,\"\")","v":""},{"$f":"Dateneingabe!B86","v":0},{"$f":"IF(Dateneingabe!C86<>\"\",Dateneingabe!C86,C85)","v":0},{"$f":"IF(Dateneingabe!D86>\"\",Dateneingabe!D86,D85)","v":0},{"$f":"Dateneingabe!E86","v":0},{"$f":"Dateneingabe!F86","v":0},"","",{"$f":"VLOOKUP(H86,Stammdaten!A$4:B$15,2,TRUE)","v":{"$error":"#N/A"}},{"$error":"#VALUE!"},{"$error":"#VALUE!"},{"$f":"VLOOKUP(H86,Stammdaten!A$4:C$15,3,TRUE)","v":{"$error":"#N/A"}},0,{"$error":"#VALUE!"},{"$error":"#VALUE!"},0,"",{"$error":"#VALUE!"}]
[{"$f":"IF(Dateneingabe!A87>0,Dateneingabe!A87,\"\")","v":""},{"$f":"Dateneingabe!B87","v":0},{"$f":"IF(Dateneingabe!C87<>\"\",Dateneingabe!C87,C86)","v":0},{"$f":"IF(Dateneingabe!D87>\"\",Dateneingabe!D87,D86)","v":0},{"$f":"Dateneingabe!E87","v":0},{"$f":"Dateneingabe!F87","v":0},"","",{"$f":"VLOOKUP(H87,Stammdaten!A$4:B$15,2,TRUE)","v":{"$error":"#N/A"}},{"$error":"#VALUE!"},{"$error":"#VALUE!"},{"$f":"VLOOKUP(H87,Stammdaten!A$4:C$15,3,TRUE)","v":{"$error":"#N/A"}},0,{"$error":"#VALUE!"},{"$error":"#VALUE!"},0,"",{"$error":"#VALUE!"}]
[{"$f":"IF(Dateneingabe!A88>0,Dateneingabe!A88,\"\")","v":""},{"$f":"Dateneingabe!B88","v":0},{"$f":"IF(Dateneingabe!C88<>\"\",Dateneingabe!C88,C87)","v":0},{"$f":"IF(Dateneingabe!D88>\"\",Dateneingabe!D88,D87)","v":0},{"$f":"Dateneingabe!E88","v":0},{"$f":"Dateneingabe!F88","v":0},"","",{"$f":"VLOOKUP(H88,Stammdaten!A$4:B$15,2,TRUE)","v":{"$error":"#N/A"}},{"$error":"#VALUE!"},{"$error":"#VALUE!"},{"$f":"VLOOKUP(H88,Stammdaten!A$4:C$15,3,TRUE)","v":{"$error":"#N/A"}},0,{"$error":"#VALUE!"},{"$error":"#VALUE!"},0,"",{"$error":"#VALUE!"}]
[{"$f":"IF(Dateneingabe!A89>0,Dateneingabe!A89,\"\")","v":""},{"$f":"Dateneingabe!B89","v":0},{"$f":"IF(Dateneingabe!C89<>\"\",Dateneingabe!C89,C88)","v":0},{"$f":"IF(Dateneingabe!D89>\"\",Dateneingabe!D89,D88)","v":0},{"$f":"Dateneingabe!E89","v":0},{"$f":"Dateneingabe!F89","v":0},"","",{"$f":"VLOOKUP(H89,Stammdaten!A$4:B$15,2,TRUE)","v":{"$error":"#N/A"}},{"$error":"#VALUE!"},{"$error":"#VALUE!"},{"$f":"VLOOKUP(H89,Stammdaten!A$4:C$15,3,TRUE)","v":{"$error":"#N/A"}},0,{"$error":"#VALUE!"},{"$error":"#VALUE!"},0,"",{"$error":"#VALUE!"}]
[{"$f":"IF(Dateneingabe!A90>0,Dateneingabe!A90,\"\")","v":""},{"$f":"Dateneingabe!B90","v":0},{"$f":"IF(Dateneingabe!C90<>\"\",Dateneingabe!C90,C89)","v":0},{"$f":"IF(Dateneingabe!D90>\"\",Dateneingabe!D90,D89)","v":0},{"$f":"Dateneingabe!E90","v":0},{"$f":"Dateneingabe!F90","v":0},"","",{"$f":"VLOOKUP(H90,Stammdaten!A$4:B$15,2,TRUE)","v":{"$error":"#N/A"}},{"$f":"DAY(A90)","v":{"$error":"#VALUE!"}},{"$error":"#VALUE!"},{"$f":"VLOOKUP(H90,Stammdaten!A$4:C$15,3,TRUE)","v":{"$error":"#N/A"}},0,{"$error":"#VALUE!"},{"$error":"#VALUE!"},0,"",{"$error":"#VALUE!"}]
[{"$f":"IF(Dateneingabe!A91>0,Dateneingabe!A91,\"\")","v":""},{"$f":"Dateneingabe!B91","v":0},{"$f":"IF(Dateneingabe!C91<>\"\",Dateneingabe!C91,C90)","v":0},{"$f":"IF(Dateneingabe!D91>\"\",Dateneingabe!D91,D90)","v":0},{"$f":"Dateneingabe!E91","v":0},{"$f":"Dateneingabe!F91","v":0},"","",{"$f":"VLOOKUP(H91,Stammdaten!A$4:B$15,2,TRUE)","v":{"$error":"#N/A"}},{"$error":"#VALUE!"},{"$error":"#VALUE!"},{"$f":"VLOOKUP(H91,Stammdaten!A$4:C$15,3,TRUE)","v":{"$error":"#N/A"}},0,{"$error":"#VALUE!"},{"$error":"#VALUE!"},0,"",{"$error":"#VALUE!"}]
[{"$f":"IF(Dateneingabe!A92>0,Dateneingabe!A92,\"\")","v":""},{"$f":"Dateneingabe!B92","v":0},{"$f":"IF(Dateneingabe!C92<>\"\",Dateneingabe!C92,C91)","v":0},{"$f":"IF(Dateneingabe!D92>\"\",Dateneingabe!D92,D91)","v":0},{"$f":"Dateneingabe!E92","v":0},{"$f":"Dateneingabe!F92","v":0},"","",{"$f":"VLOOKUP(H92,Stammdaten!A$4:B$15,2,TRUE)","v":{"$error":"#N/A"}},{"$error":"#VALUE!"},{"$error":"#VALUE!"},{"$f":"VLOOKUP(H92,Stammdaten!A$4:C$15,3,TRUE)","v":{"$error":"#N/A"}},0,{"$error":"#VALUE!"},{"$error":"#VALUE!"},0,"",{"$error":"#VALUE!"}]
[{"$f":"IF(Dateneingabe!A93>0,Dateneingabe!A93,\"\")","v":""},{"$f":"Dateneingabe!B93","v":0},{"$f":"IF(Dateneingabe!C93<>\"\",Dateneingabe!C93,C92)","v":0},{"$f":"IF(Dateneingabe!D93>\"\",Dateneingabe!D93,D92)","v":0},{"$f":"Dateneingabe!E93","v":0},{"$f":"Dateneingabe!F93","v":0},"","",{"$f":"VLOOKUP(H93,Stammdaten!A$4:B$15,2,TRUE)","v":{"$error":"#N/A"}},{"$error":"#VALUE!"},{"$error":"#VALUE!"},{"$f":"VLOOKUP(H93,Stammdaten!A$4:C$15,3,TRUE)","v":{"$error":"#N/A"}},0,{"$error":"#VALUE!"},{"$error":"#VALUE!"},0,"",{"$error":"#VALUE!"}]
[{"$f":"IF(Dateneingabe!A94>0,Dateneingabe!A94,\"\")","v":""},{"$f":"Dateneingabe!B94","v":0},{"$f":"IF(Dateneingabe!C94<>\"\",Dateneingabe!C94,C93)","v":0},{"$f":"IF(Dateneingabe!D94>\"\",Dateneingabe!D94,D93)","v":0},{"$f":"Dateneingabe!E94","v":0},{"$f":"Dateneingabe!F94","v":0},"","",{"$f":"VLOOKUP(H94,Stammdaten!A$4:B$15,2,TRUE)","v":{"$error":"#N/A"}},{"$error":"#VALUE!"},{"$error":"#VALUE!"},{"$f":"VLOOKUP(H94,Stammdaten!A$4:C$15,3,TRUE)","v":{"$error":"#N/A"}},0,{"$error":"#VALUE!"},{"$error":"#VALUE!"},0,"",{"$error":"#VALUE!"}]
[{"$f":"IF(Dateneingabe!A95>0,Dateneingabe!A95,\"\")","v":""},{"$f":"Dateneingabe!B95","v":0},{"$f":"IF(Dateneingabe!C95<>\"\",Dateneingabe!C95,C94)","v":0},{"$f":"IF(Dateneingabe!D95>\"\",Dateneingabe!D95,D94)","v":0},{"$f":"Dateneingabe!E95","v":0},{"$f":"Dateneingabe!F95","v":0},"","",{"$f":"VLOOKUP(H95,Stammdaten!A$4:B$15,2,TRUE)","v":{"$error":"#N/A"}},{"$error":"#VALUE!"},{"$error":"#VALUE!"},{"$f":"VLOOKUP(H95,Stammdaten!A$4:C$15,3,TRUE)","v":{"$error":"#N/A"}},0,{"$error":"#VALUE!"},{"$error":"#VALUE!"},0,"",{"$error":"#VALUE!"}]
[{"$f":"IF(Dateneingabe!A96>0,Dateneingabe!A96,\"\")","v":""},{"$f":"Dateneingabe!B96","v":0},{"$f":"IF(Dateneingabe!C96<>\"\",Dateneingabe!C96,C95)","v":0},{"$f":"IF(Dateneingabe!D96>\"\",Dateneingabe!D96,D95)","v":0},{"$f":"Dateneingabe!E96","v":0},{"$f":"Dateneingabe!F96","v":0},"","",{"$f":"VLOOKUP(H96,Stammdaten!A$4:B$15,2,TRUE)","v":{"$error":"#N/A"}},{"$error":"#VALUE!"},{"$error":"#VALUE!"},{"$f":"VLOOKUP(H96,Stammdaten!A$4:C$15,3,TRUE)","v":{"$error":"#N/A"}},0,{"$error":"#VALUE!"},{"$error":"#VALUE!"},0,"",{"$error":"#VALUE!"}]
[{"$f":"IF(Dateneingabe!A97>0,Dateneingabe!A97,\"\")","v":""},{"$f":"Dateneingabe!B97","v":0},{"$f":"IF(Dateneingabe!C97<>\"\",Dateneingabe!C97,C96)","v":0},{"$f":"IF(Dateneingabe!D97>\"\",Dateneingabe!D97,D96)","v":0},{"$f":"Dateneingabe!E97","v":0},{"$f":"Dateneingabe!F97","v":0},"","",{"$f":"VLOOKUP(H97,Stammdaten!A$4:B$15,2,TRUE)","v":{"$error":"#N/A"}},{"$error":"#VALUE!"},{"$error":"#VALUE!"},{"$f":"VLOOKUP(H97,Stammdaten!A$4:C$15,3,TRUE)","v":{"$error":"#N/A"}},0,{"$error":"#VALUE!"},{"$error":"#VALUE!"},0,"",{"$error":"#VALUE!"}]
[{"$f":"IF(Dateneingabe!A98>0,Dateneingabe!A98,\"\")","v":""},{"$f":"Dateneingabe!B98","v":0},{"$f":"IF(Dateneingabe!C98<>\"\",Dateneingabe!C98,C97)","v":0},{"$f":"IF(Dateneingabe!D98>\"\",Dateneingabe!D98,D97)","v":0},{"$f":"Dateneingabe!E98","v":0},{"$f":"Dateneingabe!F98","v":0},"","",{"$f":"VLOOKUP(H98,Stammdaten!A$4:B$15,2,TRUE)","v":{"$error":"#N/A"}},{"$error":"#VALUE!"},{"$error":"#VALUE!"},{"$f":"VLOOKUP(H98,Stammdaten!A$4:C$15,3,TRUE)","v":{"$error":"#N/A"}},0,{"$error":"#VALUE!"},{"$error":"#VALUE!"},0,"",{"$error":"#VALUE!"}]
[{"$f":"IF(Dateneingabe!A99>0,Dateneingabe!A99,\"\")","v":""},{"$f":"Dateneingabe!B99","v":0},{"$f":"IF(Dateneingabe!C99<>\"\",Dateneingabe!C99,C98)","v":0},{"$f":"IF(Dateneingabe!D99>\"\",Dateneingabe!D99,D98)","v":0},{"$f":"Dateneingabe!E99","v":0},{"$f":"Dateneingabe!F99","v":0},"","",{"$f":"VLOOKUP(H99,Stammdaten!A$4:B$15,2,TRUE)","v":{"$error":"#N/A"}},{"$error":"#VALUE!"},{"$error":"#VALUE!"},{"$f":"VLOOKUP(H99,Stammdaten!A$4:C$15,3,TRUE)","v":{"$error":"#N/A"}},0,{"$error":"#VALUE!"},{"$error":"#VALUE!"},0,"",{"$error":"#VALUE!"}]
[{"$f":"IF(Dateneingabe!A100>0,Dateneingabe!A100,\"\")","v":""},{"$f":"Dateneingabe!B100","v":0},{"$f":"IF(Dateneingabe!C100<>\"\",Dateneingabe!C100,C99)","v":0},{"$f":"IF(Dateneingabe!D100>\"\",Dateneingabe!D100,D99)","v":0},{"$f":"Dateneingabe!E100","v":0},{"$f":"Dateneingabe!F100","v":0},"","",{"$f":"VLOOKUP(H100,Stammdaten!A$4:B$15,2,TRUE)","v":{"$error":"#N/A"}},{"$error":"#VALUE!"},{"$error":"#VALUE!"},{"$f":"VLOOKUP(H100,Stammdaten!A$4:C$15,3,TRUE)","v":{"$error":"#N/A"}},0,{"$error":"#VALUE!"},{"$error":"#VALUE!"},0,"",{"$error":"#VALUE!"}]
[{"$f":"IF(Dateneingabe!A101>0,Dateneingabe!A101,\"\")","v":""},{"$f":"Dateneingabe!B101","v":0},{"$f":"IF(Dateneingabe!C101<>\"\",Dateneingabe!C101,C100)","v":0},{"$f":"IF(Dateneingabe!D101>\"\",Dateneingabe!D101,D100)","v":0},{"$f":"Dateneingabe!E101","v":0},{"$f":"Dateneingabe!F101","v":0},"","",{"$f":"VLOOKUP(H101,Stammdaten!A$4:B$15,2,TRUE)","v":{"$error":"#N/A"}},{"$error":"#VALUE!"},{"$error":"#VALUE!"},{"$f":"VLOOKUP(H101,Stammdaten!A$4:C$15,3,TRUE)","v":{"$error":"#N/A"}},0,{"$error":"#VALUE!"},{"$error":"#VALUE!"},0,"",{"$error":"#VALUE!"}]
[{"$f":"IF(Dateneingabe!A102>0,Dateneingabe!A102,\"\")","v":""},{"$f":"Dateneingabe!B102","v":0},{"$f":"IF(Dateneingabe!C102<>\"\",Dateneingabe!C102,C101)","v":0},{"$f":"IF(Dateneingabe!D102>\"\",Dateneingabe!D102,D101)","v":0},{"$f":"Dateneingabe!E102","v":0},{"$f":"Dateneingabe!F102","v":0},"","",{"$f":"VLOOKUP(H102,Stammdaten!A$4:B$15,2,TRUE)","v":{"$error":"#N/A"}},{"$error":"#VALUE!"},{"$error":"#VALUE!"},{"$f":"VLOOKUP(H102,Stammdaten!A$4:C$15,3,TRUE)","v":{"$error":"#N/A"}},0,{"$error":"#VALUE!"},{"$error":"#VALUE!"},0,"",{"$error":"#VALUE!"}]
[{"$f":"IF(Dateneingabe!A103>0,Dateneingabe!A103,\"\")","v":""},{"$f":"Dateneingabe!B103","v":0},{"$f":"IF(Dateneingabe!C103<>\"\",Dateneingabe!C103,C102)","v":0},{"$f":"IF(Dateneingabe!D103>\"\",Dateneingabe!D103,D102)","v":0},{"$f":"Dateneingabe!E103","v":0},{"$f":"Dateneingabe!F103","v":0},"","",{"$f":"VLOOKUP(H103,Stammdaten!A$4:B$15,2,TRUE)","v":{"$error":"#N/A"}},{"$error":"#VALUE!"},{"$error":"#VALUE!"},{"$f":"VLOOKUP(H103,Stammdaten!A$4:C$15,3,TRUE)","v":{"$error":"#N/A"}},0,{"$error":"#VALUE!"},{"$error":"#VALUE!"},0,"",{"$error":"#VALUE!"}]
[{"$f":"IF(Dateneingabe!A104>0,Dateneingabe!A104,\"\")","v":""},{"$f":"Dateneingabe!B104","v":0},{"$f":"IF(Dateneingabe!C104<>\"\",Dateneingabe!C104,C103)","v":0},{"$f":"IF(Dateneingabe!D104>\"\",Dateneingabe!D104,D103)","v":0},{"$f":"Dateneingabe!E104","v":0},{"$f":"Dateneingabe!F104","v":0},"","",{"$f":"VLOOKUP(H104,Stammdaten!A$4:B$15,2,TRUE)","v":{"$error":"#N/A"}},{"$error":"#VALUE!"},{"$error":"#VALUE!"},{"$f":"VLOOKUP(H104,Stammdaten!A$4:C$15,3,TRUE)","v":{"$error":"#N/A"}},0,{"$error":"#VALUE!"},{"$error":"#VALUE!"},0,"",{"$error":"#VALUE!"}]
[{"$f":"IF(Dateneingabe!A105>0,Dateneingabe!A105,\"\")","v":""},{"$f":"Dateneingabe!B105","v":0},{"$f":"IF(Dateneingabe!C105<>\"\",Dateneingabe!C105,C104)","v":0},{"$f":"IF(Dateneingabe!D105>\"\",Dateneingabe!D105,D104)","v":0},{"$f":"Dateneingabe!E105","v":0},{"$f":"Dateneingabe!F105","v":0},"","",{"$f":"VLOOKUP(H105,Stammdaten!A$4:B$15,2,TRUE)","v":{"$error":"#N/A"}},{"$error":"#VALUE!"},{"$error":"#VALUE!"},{"$f":"VLOOKUP(H105,Stammdaten!A$4:C$15,3,TRUE)","v":{"$error":"#N/A"}},0,{"$error":"#VALUE!"},{"$error":"#VALUE!"},0,"",{"$error":"#VALUE!"}]
[{"$f":"IF(Dateneingabe!A106>0,Dateneingabe!A106,\"\")","v":""},{"$f":"Dateneingabe!B106","v":0},{"$f":"IF(Dateneingabe!C106<>\"\",Dateneingabe!C106,C105)","v":0},{"$f":"IF(Dateneingabe!D106>\"\",Dateneingabe!D106,D105)","v":0},{"$f":"Dateneingabe!E106","v":0},{"$f":"Dateneingabe!F106","v":0},"","",{"$f":"VLOOKUP(H106,Stammdaten!A$4:B$15,2,TRUE)","v":{"$error":"#N/A"}},{"$error":"#VALUE!"},{"$error":"#VALUE!"},{"$f":"VLOOKUP(H106,Stammdaten!A$4:C$15,3,TRUE)","v":{"$error":"#N/A"}},0,{"$error":"#VALUE!"},{"$error":"#VALUE!"},0,"",{"$error":"#VALUE!"}]

{"sheet":"Tabellen für Grafik","index":5,"n_rows":5,"n_cols":2,"rows_kept":5,"cut":false,"hidden":true,"merged":[]}
[]
[]
[null,"Strom - Verbrauch"]
[]
[null,"Gesamtergebnis"]

{"sheet":"Stammdaten","index":6,"n_rows":15,"n_cols":3,"rows_kept":15,"cut":false,"hidden":true,"merged":[]}
[]
["Monate"]
[]
[1,"Januar",31]
[2,"Februar",28]
[3,"März",31]
[4,"April",30]
[5,"Mai",31]
[6,"Juni",30]
[7,"Juli",31]
[8,"August",31]
[9,"September",30]
[10,"Oktober",31]
[11,"November",30]
[12,"Dezember",31]